



BEGIN:VCALENDAR
VERSION:2.0
PRODID:-//eventon.com NONSGML v1.0//EN
CALSCALE:GREGORIAN
METHOD:PUBLISH
BEGIN:VEVENT
UID:69e7509273569
DTSTAMP:20260421T122522
DTSTART:20250703T080000Z
DTEND:20250703T100000Z
TZID:Europe/Paris
LOCATION:
SUMMARY:Séminaire - Konrad Bocian
DESCRIPTION: Séminaire de Konrad Bocian\,  Associate Professor au Center for Research on Cognition and Behavior - SWPS University - Department of Psychology in Sopot (Poland) -&nbsp;jeudi 03 juin 2025&nbsp;à 10h à l'UGA - Amphi de la MACI Nous aurons le plaisir d'accueillir&nbsp;Konrad Bocian qui viendra nous présenter ses travaux sur les[..]\nhttps://www.test.lippc2s.fr/archives/events/seminaire-konrad-bocian/
URL:https://www.test.lippc2s.fr/archives/events/seminaire-konrad-bocian/
END:VEVENT
END:VCALENDAR