



BEGIN:VCALENDAR
VERSION:2.0
PRODID:-//eventon.com NONSGML v1.0//EN
CALSCALE:GREGORIAN
METHOD:PUBLISH
BEGIN:VEVENT
UID:69e750905b492
DTSTAMP:20260421T122520
DTSTART:20250626T080000Z
DTEND:20250626T100000Z
TZID:Europe/Paris
LOCATION:Campus de Jacob-Bellecombette - Amphi 501 Rue Jean Baptiste Richard\,  73000 Jacob-Bellecombette
SUMMARY:Séminaire - Octavia Ionescu
DESCRIPTION: Nous avons le plaisir d'accueillir Octavia Ionescu (Univ. Paris Cité) qui viendra nous présenter ses travaux sur les influences croisées entre mémoire collective\,  présent collectif et projection collective future Ces dernières années\,  les discours politiques bâtis autour d’une reconstruction idéalisée de l’histoire nationale et de projections angoissantes de l’avenir du[..]\nhttps://www.test.lippc2s.fr/archives/events/seminaire-octavia-ionescu/
URL:https://www.test.lippc2s.fr/archives/events/seminaire-octavia-ionescu/
END:VEVENT
END:VCALENDAR