



BEGIN:VCALENDAR
VERSION:2.0
PRODID:-//eventon.com NONSGML v1.0//EN
CALSCALE:GREGORIAN
METHOD:PUBLISH
BEGIN:VEVENT
UID:69e7508f9f70c
DTSTAMP:20260421T122519
DTSTART:20250131T090000Z
DTEND:20250131T110000Z
TZID:Europe/Paris
LOCATION:Salle Annie Génovèse 1251 rue des universités - 38610 Gières
SUMMARY:Séminaire - Renzo Bianchi
DESCRIPTION: Renzo&nbsp;Bianchi travaille depuis plusieurs années sur la comparaison de la symptomatologie de la dépression et du burnout\,  une question qui suscite un intérêt particulier au sein de l'axe clinique. Le titre de sa présentation sera&nbsp;"Burnout: Fifty Years of Controversy".\nhttps://www.test.lippc2s.fr/archives/events/seminaire-renzo-bianchi/
URL:https://www.test.lippc2s.fr/archives/events/seminaire-renzo-bianchi/
END:VEVENT
END:VCALENDAR