



BEGIN:VCALENDAR
VERSION:2.0
PRODID:-//eventon.com NONSGML v1.0//EN
CALSCALE:GREGORIAN
METHOD:PUBLISH
BEGIN:VEVENT
UID:69e7508746c6f
DTSTAMP:20260421T122511
DTSTART:20241206T090000Z
DTEND:20241206T110000Z
TZID:Europe/Paris
LOCATION:
SUMMARY:Séminaire - Marco Perugini
DESCRIPTION: Séminaire - Marco Perugini\nhttps://www.test.lippc2s.fr/archives/events/seminaire-marco-perugini/
URL:https://www.test.lippc2s.fr/archives/events/seminaire-marco-perugini/
END:VEVENT
END:VCALENDAR