



BEGIN:VCALENDAR
VERSION:2.0
PRODID:-//eventon.com NONSGML v1.0//EN
CALSCALE:GREGORIAN
METHOD:PUBLISH
BEGIN:VEVENT
UID:69e7508fa1c13
DTSTAMP:20260421T122519
DTSTART:20250314T090000Z
DTEND:20250314T110000Z
TZID:Europe/Paris
LOCATION:https://univ-grenoble-alpes-fr.zoom.us/j/98768479506?pwd=lUWwNRSPJiIg2xmgdTOdyGLSlyqksv.1
SUMMARY:Séminaire Sebastian Potthoff
DESCRIPTION: Abstract : implementation Science uses methods and strategies to facilitate the uptake of evidence-based interventions into routine care. There is a growing recognition that effective implementation requires engagement of key stakeholders across all phases of an implementation process (i.e.\,  from initial exploration to intervention sustainment). We developed the Implementations STakeholder[..]\nhttps://www.test.lippc2s.fr/archives/events/seminaire-sebastian-potthoff/var/event_access
URL:https://www.test.lippc2s.fr/archives/events/seminaire-sebastian-potthoff/var/event_access
END:VEVENT
END:VCALENDAR