



BEGIN:VCALENDAR
VERSION:2.0
PRODID:-//eventon.com NONSGML v1.0//EN
CALSCALE:GREGORIAN
METHOD:PUBLISH
BEGIN:VEVENT
UID:69e750902506b
DTSTAMP:20260421T122520
DTSTART:20250221T090000Z
DTEND:20250221T110000Z
TZID:Europe/Paris
LOCATION:Salle Annie Génovèse 1251 rue des universités - 38610 Gières
SUMMARY:Séminaire - Peter Kuppens
DESCRIPTION: Peter Kuppens est professeur à la KU Leuven\,  où il fait partie du Research Group of Quantitative Psychology and Individual Differences. Ses recherches explorent les différences individuelles dans la manière dont les personnes évaluent et expérimentent leurs émotions\,  ainsi que les dynamiques émotionnelles qui influencent la personnalité et le bien-être.[..]\nhttps://www.test.lippc2s.fr/archives/events/seminaire-peter-kuppens/
URL:https://www.test.lippc2s.fr/archives/events/seminaire-peter-kuppens/
END:VEVENT
END:VCALENDAR