BEGIN:VCALENDAR
VERSION:2.0
PRODID:-//Laboratoire Inter-universitaire de Psychologie - ECPv6.15.17//NONSGML v1.0//EN
CALSCALE:GREGORIAN
METHOD:PUBLISH
X-WR-CALNAME:Laboratoire Inter-universitaire de Psychologie
X-ORIGINAL-URL:https://www.test.lippc2s.fr
X-WR-CALDESC:Évènements pour Laboratoire Inter-universitaire de Psychologie
REFRESH-INTERVAL;VALUE=DURATION:PT1H
X-Robots-Tag:noindex
X-PUBLISHED-TTL:PT1H
BEGIN:VTIMEZONE
TZID:Europe/Paris
BEGIN:DAYLIGHT
TZOFFSETFROM:+0100
TZOFFSETTO:+0200
TZNAME:CEST
DTSTART:20240331T010000
END:DAYLIGHT
BEGIN:STANDARD
TZOFFSETFROM:+0200
TZOFFSETTO:+0100
TZNAME:CET
DTSTART:20241027T010000
END:STANDARD
BEGIN:DAYLIGHT
TZOFFSETFROM:+0100
TZOFFSETTO:+0200
TZNAME:CEST
DTSTART:20250330T010000
END:DAYLIGHT
BEGIN:STANDARD
TZOFFSETFROM:+0200
TZOFFSETTO:+0100
TZNAME:CET
DTSTART:20251026T010000
END:STANDARD
BEGIN:DAYLIGHT
TZOFFSETFROM:+0100
TZOFFSETTO:+0200
TZNAME:CEST
DTSTART:20260329T010000
END:DAYLIGHT
BEGIN:STANDARD
TZOFFSETFROM:+0200
TZOFFSETTO:+0100
TZNAME:CET
DTSTART:20261025T010000
END:STANDARD
END:VTIMEZONE
BEGIN:VEVENT
DTSTART;TZID=Europe/Paris:20250916T090000
DTEND;TZID=Europe/Paris:20250916T170000
DTSTAMP:20260422T095149
CREATED:20250915T125541Z
LAST-MODIFIED:20250915T125800Z
UID:7925-1758013200-1758042000@www.test.lippc2s.fr
SUMMARY:Journée scientifique du laboratoire
DESCRIPTION:9h00 : Accueil des nouveaux arrivants et vote du CR du dernier conseil \n9h30-10h : Informations générales \n10h-11h : Règlement intérieur & demandes de statut de membre associé \n11h-11h30 : Site internet du laboratoire et expérimentations \n11h30-12h : Information pour les prestations et activités de services \n12h : Agenda (HCERES et prochain conseil de laboratoire) et questions diverses \nPause – Repas partagé collectivement \n13h30-14h30 : Bilan des forces et axes d’amélioration (axes\, laboratoire) \n14h30-16h : Nouveaux axes de recherche et perspectives de recherche (CT\, MT) \n16h-16h30 : Anticipation des profils pour les prochains recrutements (CT\, MT) \n\nRecommandations générales\nCalendrier des démarches et rôles (vivier ; profil E\, profil R\, COS)\n\n16h30-17h30 : Préparation de la visite HCERES : choix des productions\, missions\, activités à présenter
URL:https://www.test.lippc2s.fr/event/journee-scientifique-du-laboratoire-4/
CATEGORIES:Réunion/Évènement interne
END:VEVENT
END:VCALENDAR